BEGIN:VCALENDAR
VERSION:2.0
PRODID:-//Purifaces - ECPv6.0.12//NONSGML v1.0//EN
CALSCALE:GREGORIAN
METHOD:PUBLISH
X-WR-CALNAME:Purifaces
X-ORIGINAL-URL:https://purifacesonline.com
X-WR-CALDESC:Events for Purifaces
REFRESH-INTERVAL;VALUE=DURATION:PT1H
X-Robots-Tag:noindex
X-PUBLISHED-TTL:PT1H
BEGIN:VTIMEZONE
TZID:Asia/Kuala_Lumpur
BEGIN:STANDARD
TZOFFSETFROM:+0800
TZOFFSETTO:+0800
TZNAME:+08
DTSTART:20250101T000000
END:STANDARD
END:VTIMEZONE
BEGIN:VEVENT
DTSTART;TZID=Asia/Kuala_Lumpur:20251118T200000
DTEND;TZID=Asia/Kuala_Lumpur:20251118T213000
DTSTAMP:20260425T121427
CREATED:20251011T055904Z
LAST-MODIFIED:20251011T064743Z
UID:9599-1763496000-1763501400@purifacesonline.com
SUMMARY:PURISTART - The perfect way to remove old skin and renew it\, let your customers see your professionalism.
DESCRIPTION:
URL:https://purifacesonline.com/calendar/puristart-the-perfect-way-to-remove-old-skin-and-renew-it-let-your-customers-see-your-professionalism/
LOCATION:ONLINE
CATEGORIES:ZOOM
ATTACH;FMTTYPE=image/jpeg:https://purifacesonline.com/wp-content/uploads/2024/08/皮肤除旧更新的达配方式-让你顾客看到你的专业.-1.jpg
END:VEVENT
END:VCALENDAR